BEGIN:VCALENDAR
PRODID:brasil.gov.agenda
VERSION:1.0
BEGIN:VEVENT
DTSTART:20220608T103000Z
DTEND:20220608T110000Z
DCREATED:20220609T184311Z
UID:Compromisso-c0047d78fc67420db365236cf26d30b5
SEQUENCE:0
LAST-MODIFIED:20220609T184311Z
SUMMARY:Colação de Grau Posterior
LOCATION:Reitoria
PRIORITY:3
TRANSP:0
END:VEVENT
END:VCALENDAR
