BEGIN:VCALENDAR
PRODID:brasil.gov.agenda
VERSION:1.0
BEGIN:VEVENT
DTSTART:20220607T110000Z
DTEND:20220607T120000Z
DCREATED:20220607T125423Z
UID:Compromisso-01f4c6bfc87e4341b045b492adc06d40
SEQUENCE:0
LAST-MODIFIED:20220607T125424Z
SUMMARY:Reunião com Pró-Reitor de Gestão de Pessoas e Pró-Reitora de Graduação
LOCATION:Reitoria
PRIORITY:3
TRANSP:0
END:VEVENT
END:VCALENDAR
