BEGIN:VCALENDAR
PRODID:brasil.gov.agenda
VERSION:1.0
BEGIN:VEVENT
DTSTART:20220607T083000Z
DTEND:20220607T110000Z
DCREATED:20220607T125359Z
UID:Compromisso-6cc7ab33efc44e2aa83a96b5210489f5
SEQUENCE:0
LAST-MODIFIED:20220607T125359Z
SUMMARY:Reunião com a Secretário dos Conselhos Superiores
LOCATION:Reitoria
PRIORITY:3
TRANSP:0
END:VEVENT
END:VCALENDAR
