BEGIN:VCALENDAR
PRODID:brasil.gov.agenda
VERSION:1.0
BEGIN:VEVENT
DTSTART:20220606T080000Z
DTEND:20220606T120000Z
DCREATED:20220606T181408Z
UID:Compromisso-f3af656bcedc4de2802bc911e351b9d6
SEQUENCE:0
LAST-MODIFIED:20220606T181408Z
SUMMARY:Despachos Internos
LOCATION:Reitoria
PRIORITY:3
TRANSP:0
END:VEVENT
END:VCALENDAR
