BEGIN:VCALENDAR
PRODID:brasil.gov.agenda
VERSION:1.0
BEGIN:VEVENT
DTSTART:20220603T070000Z
DTEND:20220603T090000Z
DCREATED:20220606T111718Z
UID:Compromisso-8afed6f7468b4b74ad50fe9070b7e72b
SEQUENCE:0
LAST-MODIFIED:20220606T111718Z
SUMMARY:Retorno para Diamantina
LOCATION:Reitoria
PRIORITY:3
TRANSP:0
END:VEVENT
END:VCALENDAR
