BEGIN:VCALENDAR
PRODID:brasil.gov.agenda
VERSION:1.0
BEGIN:VEVENT
DTSTART:20220603T090000Z
DTEND:20220603T120000Z
DCREATED:20220606T111738Z
UID:Compromisso-0ac1cde52bd34cd79781d00a7f68eb57
SEQUENCE:0
LAST-MODIFIED:20220606T111738Z
SUMMARY:Despachos Internos
LOCATION:Reitoria
PRIORITY:3
TRANSP:0
END:VEVENT
END:VCALENDAR
