BEGIN:VCALENDAR
PRODID:brasil.gov.agenda
VERSION:1.0
BEGIN:VEVENT
DTSTART:20220603T140000Z
DTEND:20220603T180000Z
DCREATED:20220606T111754Z
UID:Compromisso-1f31dcb90d0b4b35a2ea717ad07a8f22
SEQUENCE:0
LAST-MODIFIED:20220606T111754Z
SUMMARY:Despachos Internos
LOCATION:Reitoria
PRIORITY:3
TRANSP:0
END:VEVENT
END:VCALENDAR
