BEGIN:VCALENDAR
PRODID:brasil.gov.agenda
VERSION:1.0
BEGIN:VEVENT
DTSTART:20220601T100000Z
DTEND:20220601T120000Z
DCREATED:20220603T184259Z
UID:Compromisso-0da65fc7aee94faaaf9e9fd0bed36162
SEQUENCE:0
LAST-MODIFIED:20220603T184259Z
SUMMARY:280.ª reunião\, sendo a 125ª sessão  em caráter extraordinário do CONSU
LOCATION:Reitoria
PRIORITY:3
TRANSP:0
END:VEVENT
END:VCALENDAR
