BEGIN:VCALENDAR
PRODID:brasil.gov.agenda
VERSION:1.0
BEGIN:VEVENT
DTSTART:20220601T080000Z
DTEND:20220601T100000Z
DCREATED:20220603T184234Z
UID:Compromisso-0a95636be7e647e5b395eb2dba48bf26
SEQUENCE:0
LAST-MODIFIED:20220603T184234Z
SUMMARY:279.ª reunião\, sendo a 124ª sessão  em caráter extraordinário do CONSU
LOCATION:Reitoria
PRIORITY:3
TRANSP:0
END:VEVENT
END:VCALENDAR
