BEGIN:VCALENDAR
PRODID:brasil.gov.agenda
VERSION:1.0
BEGIN:VEVENT
DTSTART:20220530T140000Z
DTEND:20220530T180000Z
DCREATED:20220603T184038Z
UID:Compromisso-3911bedc7c4541c1b725433fa069099c
SEQUENCE:0
LAST-MODIFIED:20220603T184038Z
SUMMARY:Despachos Internos
LOCATION:Reitoria
PRIORITY:3
TRANSP:0
END:VEVENT
END:VCALENDAR
