BEGIN:VCALENDAR
PRODID:brasil.gov.agenda
VERSION:1.0
BEGIN:VEVENT
DTSTART:20220526T143000Z
DTEND:20220526T153000Z
DCREATED:20220603T183517Z
UID:Compromisso-1595321e368047aaa174f78ca1d14087
SEQUENCE:0
LAST-MODIFIED:20220603T183517Z
SUMMARY:Posse de Docentes
LOCATION:Reitoria
PRIORITY:3
TRANSP:0
END:VEVENT
END:VCALENDAR
