BEGIN:VCALENDAR
PRODID:brasil.gov.agenda
VERSION:1.0
BEGIN:VEVENT
DTSTART:20220526T080000Z
DTEND:20220526T100000Z
DCREATED:20220603T183422Z
UID:Compromisso-740349772be74d7fb9d77c8158b9af46
SEQUENCE:0
LAST-MODIFIED:20220603T183422Z
SUMMARY:Despachos Internos
LOCATION:Reitoria
PRIORITY:3
TRANSP:0
END:VEVENT
END:VCALENDAR
