BEGIN:VCALENDAR
PRODID:brasil.gov.agenda
VERSION:1.0
BEGIN:VEVENT
DTSTART:20220526T100000Z
DTEND:20220526T110000Z
DCREATED:20220603T183444Z
UID:Compromisso-051bcad7c62e4bf8820a12f6956c95ad
SEQUENCE:0
LAST-MODIFIED:20220603T183444Z
SUMMARY:Colação de Grau Posterior
LOCATION:Reitoria
PRIORITY:3
TRANSP:0
END:VEVENT
END:VCALENDAR
