BEGIN:VCALENDAR
PRODID:brasil.gov.agenda
VERSION:1.0
BEGIN:VEVENT
DTSTART:20220526T140000Z
DTEND:20220526T180000Z
DCREATED:20220622T133816Z
UID:Compromisso-e91c1321df894441b917523cee27da4e
SEQUENCE:0
LAST-MODIFIED:20220622T142500Z
SUMMARY:274ª reunião em caráter extraordinário do CONCUR
LOCATION:Reitoria
PRIORITY:3
TRANSP:0
END:VEVENT
END:VCALENDAR
