BEGIN:VCALENDAR
PRODID:brasil.gov.agenda
VERSION:1.0
BEGIN:VEVENT
DTSTART:20220524T140000Z
DTEND:20220524T150000Z
DCREATED:20220526T144351Z
UID:Compromisso-1fe8f5a3708c45d99b2a076c228f7620
SEQUENCE:0
LAST-MODIFIED:20220526T144351Z
SUMMARY:Reunião Reitor e Cinthia Bernardino de Lima
DESCRIPTION:Redistribuição
LOCATION:Reitoria
PRIORITY:3
TRANSP:0
END:VEVENT
END:VCALENDAR
