BEGIN:VCALENDAR
PRODID:brasil.gov.agenda
VERSION:1.0
BEGIN:VEVENT
DTSTART:20220524T080000Z
DTEND:20220524T100000Z
DCREATED:20220526T144215Z
UID:Compromisso-b90a6465d5ee493e9813e24b9feac2fc
SEQUENCE:0
LAST-MODIFIED:20220526T144215Z
SUMMARY:Despachos Internos
LOCATION:Reitoria
PRIORITY:3
TRANSP:0
END:VEVENT
END:VCALENDAR
