BEGIN:VCALENDAR
PRODID:brasil.gov.agenda
VERSION:1.0
BEGIN:VEVENT
DTSTART:20220524T150000Z
DTEND:20220524T180000Z
DCREATED:20220526T144407Z
UID:Compromisso-c3734aed70f64bc497a229e65afcebf4
SEQUENCE:0
LAST-MODIFIED:20220526T144407Z
SUMMARY:Despachos Internos
LOCATION:Reitoria
PRIORITY:3
TRANSP:0
END:VEVENT
END:VCALENDAR
