BEGIN:VCALENDAR
PRODID:brasil.gov.agenda
VERSION:1.0
BEGIN:VEVENT
DTSTART:20220524T100000Z
DTEND:20220524T110000Z
DCREATED:20220526T144309Z
UID:Compromisso-44c22afde6bf496bb2184cffc3d3ddc0
SEQUENCE:0
LAST-MODIFIED:20220526T144309Z
SUMMARY:35ª Reunião CGIRC
DESCRIPTION:1 - Adequação da vigência do PDTI ao PDI\; e 2 - Inclus
 ão das atribuições e membros natos do Comitê de Governancia Digita
 l ao CGIRC
LOCATION:Reitoria
PRIORITY:3
TRANSP:0
END:VEVENT
END:VCALENDAR
