BEGIN:VCALENDAR
PRODID:brasil.gov.agenda
VERSION:1.0
BEGIN:VEVENT
DTSTART:20220523T083000Z
DTEND:20220523T093000Z
DCREATED:20220526T144017Z
UID:Compromisso-ff55a9a5bba848b39154ad5eaeb127d0
SEQUENCE:0
LAST-MODIFIED:20220526T144017Z
SUMMARY:Reunião Vice-Reitor\, DTI\, e Arlindo Follador Neto
DESCRIPTION:OFÍCIO Nº 39/2022/DIRFACET/FACET - Solicita providência
 s sobre responsabilidade de ferramenta de votação eletrônica. Proce
 sso SEI! 23086.003550/2022-05.
LOCATION:Reitoria
PRIORITY:3
TRANSP:0
END:VEVENT
END:VCALENDAR
