BEGIN:VCALENDAR
PRODID:brasil.gov.agenda
VERSION:1.0
BEGIN:VEVENT
DTSTART:20220523T140000Z
DTEND:20220523T180000Z
DCREATED:20220526T144114Z
UID:Compromisso-0d5c120c1d254b5c846f598ad9a59a22
SEQUENCE:0
LAST-MODIFIED:20220526T144114Z
SUMMARY:182ª reunião sendo a 132ª sessão em caráter ordinário do CONSEPE
LOCATION:Reitoria
PRIORITY:3
TRANSP:0
END:VEVENT
END:VCALENDAR
