BEGIN:VCALENDAR
PRODID:brasil.gov.agenda
VERSION:1.0
BEGIN:VEVENT
DTSTART:20220520T140000Z
DTEND:20220520T180000Z
DCREATED:20220526T143856Z
UID:Compromisso-ee9d85909e71417eb1b00380d1fc8504
SEQUENCE:0
LAST-MODIFIED:20220622T142600Z
SUMMARY:273ª reunião em caráter extraordinário do CONCUR
LOCATION:Reitoria
PRIORITY:3
TRANSP:0
END:VEVENT
END:VCALENDAR
