BEGIN:VCALENDAR
PRODID:brasil.gov.agenda
VERSION:1.0
BEGIN:VEVENT
DTSTART:20220519T080000Z
DTEND:20220519T090000Z
DCREATED:20220519T165319Z
UID:Compromisso-c2b0677dcdfa4ef582ddf84d4077c41c
SEQUENCE:0
LAST-MODIFIED:20220519T165319Z
SUMMARY:Despachos Internos
LOCATION:Reitoria
PRIORITY:3
TRANSP:0
END:VEVENT
END:VCALENDAR
