BEGIN:VCALENDAR
PRODID:brasil.gov.agenda
VERSION:1.0
BEGIN:VEVENT
DTSTART:20220519T100000Z
DTEND:20220519T120000Z
DCREATED:20220526T143623Z
UID:Compromisso-3f2c274c3b804633b98205a4c1941293
SEQUENCE:0
LAST-MODIFIED:20220526T143623Z
SUMMARY:Despachos Internos
LOCATION:Reitoria
PRIORITY:3
TRANSP:0
END:VEVENT
END:VCALENDAR
