BEGIN:VCALENDAR
PRODID:brasil.gov.agenda
VERSION:1.0
BEGIN:VEVENT
DTSTART:20220519T090000Z
DTEND:20220519T100000Z
DCREATED:20220519T165353Z
UID:Compromisso-5568cfde882345de84cebb28f9235e9d
SEQUENCE:0
LAST-MODIFIED:20220526T143609Z
SUMMARY:Colação de Grau Posterior
LOCATION:Reitoria
PRIORITY:3
TRANSP:0
END:VEVENT
END:VCALENDAR
