BEGIN:VCALENDAR
PRODID:brasil.gov.agenda
VERSION:1.0
BEGIN:VEVENT
DTSTART:20220519T140000Z
DTEND:20220519T180000Z
DCREATED:20220526T143701Z
UID:Compromisso-96df16def0e245d884f157d6a6aa0adf
SEQUENCE:0
LAST-MODIFIED:20220526T143701Z
SUMMARY:275.ª reunião\, sendo a 121ª sessão  em caráter extraordinário do CONSU
LOCATION:Reitoria
PRIORITY:3
TRANSP:0
END:VEVENT
END:VCALENDAR
