BEGIN:VCALENDAR
PRODID:brasil.gov.agenda
VERSION:1.0
BEGIN:VEVENT
DTSTART:20220511T000000Z
DTEND:20220511T000000Z
DCREATED:20220503T140907Z
UID:Compromisso-93e829666d4d49c1ae907aac0c55a27a
SEQUENCE:0
LAST-MODIFIED:20220503T140907Z
SUMMARY:Férias Regulamentares
LOCATION:Reitoria
PRIORITY:3
TRANSP:0
END:VEVENT
END:VCALENDAR
