BEGIN:VCALENDAR
PRODID:brasil.gov.agenda
VERSION:1.0
BEGIN:VEVENT
DTSTART:20220510T000000Z
DTEND:20220510T000000Z
DCREATED:20220503T140822Z
UID:Compromisso-aa746ea1b56140ab998758cb8ff77ad1
SEQUENCE:0
LAST-MODIFIED:20220503T140822Z
SUMMARY:Férias Regulamentares
LOCATION:Reitoria
PRIORITY:3
TRANSP:0
END:VEVENT
END:VCALENDAR
