BEGIN:VCALENDAR
PRODID:brasil.gov.agenda
VERSION:1.0
BEGIN:VEVENT
DTSTART:20220506T000000Z
DTEND:20220506T000000Z
DCREATED:20220503T140640Z
UID:Compromisso-75fb5b862c5f40a78bb60aab9c05cf37
SEQUENCE:0
LAST-MODIFIED:20220503T140640Z
SUMMARY:Férias Regulamentares
LOCATION:Reitoria
PRIORITY:3
TRANSP:0
END:VEVENT
END:VCALENDAR
