BEGIN:VCALENDAR
PRODID:brasil.gov.agenda
VERSION:1.0
BEGIN:VEVENT
DTSTART:20220505T000000Z
DTEND:20220505T000000Z
DCREATED:20220503T140558Z
UID:Compromisso-a3a84752581e419fbf7dba5b5a3a12c2
SEQUENCE:0
LAST-MODIFIED:20220503T140558Z
SUMMARY:Férias Regulamentares
LOCATION:Reitoria
PRIORITY:3
TRANSP:0
END:VEVENT
END:VCALENDAR
