BEGIN:VCALENDAR
PRODID:brasil.gov.agenda
VERSION:1.0
BEGIN:VEVENT
DTSTART:20220503T000000Z
DTEND:20220503T000000Z
DCREATED:20220503T140431Z
UID:Compromisso-d9f29fe940fb4a429e285663ccd0b261
SEQUENCE:0
LAST-MODIFIED:20220503T140431Z
SUMMARY:Férias Regulamentares
LOCATION:Reitoria
PRIORITY:3
TRANSP:0
END:VEVENT
END:VCALENDAR
