BEGIN:VCALENDAR
PRODID:brasil.gov.agenda
VERSION:1.0
BEGIN:VEVENT
DTSTART:20220502T140000Z
DTEND:20220502T180000Z
DCREATED:20220503T140334Z
UID:Compromisso-bbccabf9c5004a358674c2e7d489a78c
SEQUENCE:0
LAST-MODIFIED:20220503T140334Z
SUMMARY:Despachos Internos
LOCATION:Reitoria
PRIORITY:3
TRANSP:0
END:VEVENT
END:VCALENDAR
