BEGIN:VCALENDAR
PRODID:brasil.gov.agenda
VERSION:1.0
BEGIN:VEVENT
DTSTART:20220502T083000Z
DTEND:20220502T120000Z
DCREATED:20220503T140314Z
UID:Compromisso-2f668eee7d054ab8b65e92e40967f14b
SEQUENCE:0
LAST-MODIFIED:20220503T140314Z
SUMMARY:272.ª reunião\, sendo a 118ª sessão  em caráter extraordinário do CONSU
LOCATION:Reitoria
PRIORITY:3
TRANSP:0
END:VEVENT
END:VCALENDAR
