BEGIN:VCALENDAR
PRODID:brasil.gov.agenda
VERSION:1.0
BEGIN:VEVENT
DTSTART:20220501T080000Z
DTEND:20220501T120000Z
DCREATED:20220603T184123Z
UID:Compromisso-49fe46f285db4f72803cf0e19e484609
SEQUENCE:0
LAST-MODIFIED:20220603T184123Z
SUMMARY:Despachos Internos
LOCATION:Reitoria
PRIORITY:3
TRANSP:0
END:VEVENT
END:VCALENDAR
