BEGIN:VCALENDAR
PRODID:brasil.gov.agenda
VERSION:1.0
BEGIN:VEVENT
DTSTART:20220501T140000Z
DTEND:20220501T180000Z
DCREATED:20220603T184143Z
UID:Compromisso-85fedf7da5804a19be6762cc27d36aa0
SEQUENCE:0
LAST-MODIFIED:20220603T184143Z
SUMMARY:Despachos Internos
LOCATION:Reitoria
PRIORITY:3
TRANSP:0
END:VEVENT
END:VCALENDAR
