BEGIN:VCALENDAR
PRODID:brasil.gov.agenda
VERSION:1.0
BEGIN:VEVENT
DTSTART:20220429T000000Z
DTEND:20220429T000000Z
DCREATED:20220429T120801Z
UID:Compromisso-2593074e9904445098094c8f0e86af18
SEQUENCE:0
LAST-MODIFIED:20220429T120801Z
SUMMARY:Férias Regulamentares
LOCATION:Reitoria
PRIORITY:3
TRANSP:0
END:VEVENT
END:VCALENDAR
