BEGIN:VCALENDAR
PRODID:brasil.gov.agenda
VERSION:1.0
BEGIN:VEVENT
DTSTART:20220427T000000Z
DTEND:20220427T000000Z
DCREATED:20220429T120508Z
UID:Compromisso-43c54059a2df4387a66c4c0eea3c9d95
SEQUENCE:0
LAST-MODIFIED:20220429T120508Z
SUMMARY:Férias Regulamentares
LOCATION:Reitoria
PRIORITY:3
TRANSP:0
END:VEVENT
END:VCALENDAR
