BEGIN:VCALENDAR
PRODID:brasil.gov.agenda
VERSION:1.0
BEGIN:VEVENT
DTSTART:20220426T000000Z
DTEND:20220426T000000Z
DCREATED:20220429T120424Z
UID:Compromisso-59c6409655b94116b54ee761b53309da
SEQUENCE:0
LAST-MODIFIED:20220429T120424Z
SUMMARY:Férias Regulamentares
LOCATION:Reitoria
PRIORITY:3
TRANSP:0
END:VEVENT
END:VCALENDAR
