BEGIN:VCALENDAR
PRODID:brasil.gov.agenda
VERSION:1.0
BEGIN:VEVENT
DTSTART:20220425T000000Z
DTEND:20220425T000000Z
DCREATED:20220429T120341Z
UID:Compromisso-73c988662c0b421aa8c5e5ad6bb86565
SEQUENCE:0
LAST-MODIFIED:20220429T120341Z
SUMMARY:Férias Regulamentares
LOCATION:Reitoria
PRIORITY:3
TRANSP:0
END:VEVENT
END:VCALENDAR
