BEGIN:VCALENDAR
PRODID:brasil.gov.agenda
VERSION:1.0
BEGIN:VEVENT
DTSTART:20220420T133000Z
DTEND:20220420T180000Z
DCREATED:20220429T120246Z
UID:Compromisso-6af9149d766849328702ce6389bddf2b
SEQUENCE:0
LAST-MODIFIED:20220429T120246Z
SUMMARY:Reunião Vice-Reitor\, Chefe de Gabinete e Diretoria de Governância Institucional
DESCRIPTION:Sistema e-prevenção
LOCATION:Reitoria
PRIORITY:3
TRANSP:0
END:VEVENT
END:VCALENDAR
