BEGIN:VCALENDAR
PRODID:brasil.gov.agenda
VERSION:1.0
BEGIN:VEVENT
DTSTART:20220420T080000Z
DTEND:20220420T120000Z
DCREATED:20220429T120210Z
UID:Compromisso-4b9567eac1a74ac8b3f67c03ca089b27
SEQUENCE:0
LAST-MODIFIED:20220429T120210Z
SUMMARY:Despachos Internos
LOCATION:Reitoria
PRIORITY:3
TRANSP:0
END:VEVENT
END:VCALENDAR
