BEGIN:VCALENDAR
PRODID:brasil.gov.agenda
VERSION:1.0
BEGIN:VEVENT
DTSTART:20220419T143000Z
DTEND:20220419T180000Z
DCREATED:20220429T120119Z
UID:Compromisso-024c06575d594f00bb3eabe6bab582e6
SEQUENCE:0
LAST-MODIFIED:20220429T120119Z
SUMMARY:Reunião Vice-Reitor e DGI
DESCRIPTION:Sistema e-Prevenção e Sistema Siorg
LOCATION:Reitoria
PRIORITY:3
TRANSP:0
END:VEVENT
END:VCALENDAR
