BEGIN:VCALENDAR
PRODID:brasil.gov.agenda
VERSION:1.0
BEGIN:VEVENT
DTSTART:20220419T100000Z
DTEND:20220419T110000Z
DCREATED:20220429T120049Z
UID:Compromisso-3f6b1c03a2554e599da4021f7e71d458
SEQUENCE:0
LAST-MODIFIED:20220429T120049Z
SUMMARY:Colação de Grau Posterior
LOCATION:Reitoria
PRIORITY:3
TRANSP:0
END:VEVENT
END:VCALENDAR
