BEGIN:VCALENDAR
PRODID:brasil.gov.agenda
VERSION:1.0
BEGIN:VEVENT
DTSTART:20220419T090000Z
DTEND:20220419T100000Z
DCREATED:20220429T120022Z
UID:Compromisso-cedf606cc9914233b03c19a1f12e92d5
SEQUENCE:0
LAST-MODIFIED:20220429T120022Z
SUMMARY:Colação de Grau Antecipada
LOCATION:Reitoria
PRIORITY:3
TRANSP:0
END:VEVENT
END:VCALENDAR
