BEGIN:VCALENDAR
PRODID:brasil.gov.agenda
VERSION:1.0
BEGIN:VEVENT
DTSTART:20220418T090000Z
DTEND:20220418T100000Z
DCREATED:20220429T115633Z
UID:Compromisso-3334b52754524ed382ad39e0fd61c40f
SEQUENCE:0
LAST-MODIFIED:20220429T115633Z
SUMMARY:Reunião Vice-Reitor e PROAD
DESCRIPTION:Gastos com a frota da UFVJM - otimização da logística v
 isando a economicidade - Planilha Gastos Frota Oficial 2017 a 2021 cor
 rigida (0603340)
LOCATION:Reitoria
PRIORITY:3
TRANSP:0
END:VEVENT
END:VCALENDAR
