BEGIN:VCALENDAR
PRODID:brasil.gov.agenda
VERSION:1.0
BEGIN:VEVENT
DTSTART:20220418T100000Z
DTEND:20220418T120000Z
DCREATED:20220429T115656Z
UID:Compromisso-b3aceb3861bc4f2f94aec85e01c86cd0
SEQUENCE:0
LAST-MODIFIED:20220429T115656Z
SUMMARY:Despachos Internos
LOCATION:Reitoria
PRIORITY:3
TRANSP:0
END:VEVENT
END:VCALENDAR
