BEGIN:VCALENDAR
PRODID:brasil.gov.agenda
VERSION:1.0
BEGIN:VEVENT
DTSTART:20220418T140000Z
DTEND:20220418T180000Z
DCREATED:20220429T115740Z
UID:Compromisso-2fbc9ce141d0409985e32ee4c673a4ad
SEQUENCE:0
LAST-MODIFIED:20220622T135616Z
SUMMARY:269.ª reunião\, sendo a 116ª sessão em caráter extraordinário do CONSU
LOCATION:Reitoria
PRIORITY:3
TRANSP:0
END:VEVENT
END:VCALENDAR
