BEGIN:VCALENDAR
PRODID:brasil.gov.agenda
VERSION:1.0
BEGIN:VEVENT
DTSTART:20220413T083000Z
DTEND:20220413T120000Z
DCREATED:20220429T113555Z
UID:Compromisso-975e781ba554456c8ce1892a23b99261
SEQUENCE:0
LAST-MODIFIED:20220429T113555Z
SUMMARY:Reunião Vice-Reitor e DGI
DESCRIPTION:OFÍCIO Nº 39/2022/DIRFACET/FACET - Solicita providência
 s sobre responsabilidade de ferramenta de votação eletrônica.
LOCATION:Reitoria
PRIORITY:3
TRANSP:0
END:VEVENT
END:VCALENDAR
