BEGIN:VCALENDAR
PRODID:brasil.gov.agenda
VERSION:1.0
BEGIN:VEVENT
DTSTART:20220413T140000Z
DTEND:20220413T180000Z
DCREATED:20220429T113650Z
UID:Compromisso-77c5c5f95f4442c896c46726919df90f
SEQUENCE:0
LAST-MODIFIED:20220429T113650Z
SUMMARY:Despachos Internos
LOCATION:Reitoria
PRIORITY:3
TRANSP:0
END:VEVENT
END:VCALENDAR
