BEGIN:VCALENDAR
PRODID:brasil.gov.agenda
VERSION:1.0
BEGIN:VEVENT
DTSTART:20220412T140000Z
DTEND:20220412T180000Z
DCREATED:20220429T113414Z
UID:Compromisso-b1b6f90b970f4302a62617a424c92e06
SEQUENCE:0
LAST-MODIFIED:20220622T142846Z
SUMMARY:270 ª reunião em caráter extraordinário do CONCUR
LOCATION:Reitoria
PRIORITY:3
TRANSP:0
END:VEVENT
END:VCALENDAR
