BEGIN:VCALENDAR
PRODID:brasil.gov.agenda
VERSION:1.0
BEGIN:VEVENT
DTSTART:20220411T110000Z
DTEND:20220411T120000Z
DCREATED:20220429T113252Z
UID:Compromisso-19f1413b9af54cb181579e2aa3b3bf2f
SEQUENCE:0
LAST-MODIFIED:20220429T113252Z
SUMMARY:Despachos Internos
LOCATION:Reitoria
PRIORITY:3
TRANSP:0
END:VEVENT
END:VCALENDAR
